BEGIN:VCALENDAR
VERSION:2.0
PRODID:http://murmitoyen.com/events/vanille/
X-WR-TIMEZONE:America/Montreal
BEGIN:VEVENT
UID:69e6ec3585b1b
DTSTAMP:20260420T231709
DTSTART;VALUE=DATE:20260502
SEQUENCE:0
TRANSP:OPAQUE
DTEND;VALUE=DATE:20260502
URL:http://murmitoyen.com/events/vanille/detail/994564-horaire-des-films-du
 -planetarium
LOCATION:Planétarium\, 4801\, avenue Pierre-De Coubertin\, Montréal\, QC\
 , Canada\, H1V 3V4
SUMMARY:Horaire des films du Planétarium
DESCRIPTION:Les beautés de l’espace dans toute leur splendeur!\n\nCons
 ultez la page des horaires des films »\n\nVivez une expérience inédit
 e de l'Univers à travers ses théâtres immersifs où sont diffusés des 
 spectacles à la fois poétiques et scientifiques.\nProgrammes doubles à
  l'affiche\n\nNouveau! Dès le 4 maiLa grande aventure du système solai
 re!aurōrae\nUn jour sur MarsPasseport pour l'Univers\nTrous noirs : hor
 izons inconnusPasseport pour l'Univers\nChroniques CélestesPasseport pou
 r l'Univers\nChroniques CélestesTrous noirs : horizons inconnus\nAu-del
 à du soleil : recheche d'une nouvelle TerreNous sommes des étoiles\n\n
 Programmes simples à l'affiche\n\nLes frontières de l’infini\nPink 
 Floyd - The Dark Side of the Moon\nÀ bord du SSE-4801\n\n
X-MICROSOFT-CDO-ALLDAYEVENT:TRUE
END:VEVENT
BEGIN:VTIMEZONE
TZID:America/Montreal
X-LIC-LOCATION:America/Montreal
END:VTIMEZONE
END:VCALENDAR