BEGIN:VCALENDAR
VERSION:2.0
PRODID:http://murmitoyen.com/events/vanille/
X-WR-TIMEZONE:America/Montreal
BEGIN:VEVENT
UID:69e766b2e09fd
DTSTAMP:20260421T075946
DTSTART:20260808T093000
SEQUENCE:0
TRANSP:OPAQUE
DTEND:20260808T173000
URL:http://murmitoyen.com/events/vanille/detail/994557-lab-famille
LOCATION:Planétarium\, 4801\, avenue Pierre-De Coubertin\, Montréal\, QC\
 , Canada\, H1V 3V4
SUMMARY:Lab famille
DESCRIPTION:Cette zone d’exploration en libre-service est conçue spécia
 lement pour les familles. Des activités qui stimulent la curiosité\, la 
 discussion et l’imagination y sont proposées.\nLe Planétarium offre c
 haque deuxième samedi du mois en continu des activités gratuites dont le
  contenu est renouvelé chaque saison\, tout comme le matériel disponible
  et les nouveautés développées par l’équipe. L’expérience est ain
 si chaque fois surprenante. Une belle manière pour les familles d’enric
 hir leur visite.\nCette saison\, au Planétarium\nCréez votre robot d
 ’exploration avec Mars Mobile et laissez aller votre imagination dans la
  zone de construction libre remplie de LEGO et créez des fusées\, des st
 ations spatiales ou tout autre créations intergalactiques.\n\nSans rés
 ervation.\nPour les 6 à 12 ans.\nUn espace d’exploration sensorielle 
 pour les 0 à 5 ans est également accessible en continu.\n
END:VEVENT
BEGIN:VTIMEZONE
TZID:America/Montreal
X-LIC-LOCATION:America/Montreal
END:VTIMEZONE
END:VCALENDAR