BEGIN:VCALENDAR
VERSION:2.0
PRODID:http://murmitoyen.com/events/vanille/
X-WR-TIMEZONE:America/Montreal
BEGIN:VEVENT
UID:69e7037e87098
DTSTAMP:20260421T005630
DTSTART:20260902T133000
SEQUENCE:0
TRANSP:OPAQUE
DTEND:20260902T133000
URL:http://murmitoyen.com/events/vanille/detail/994543-visites-guidees-de-l
 herbier-marie-victorin
LOCATION:Jardin botanique de Montréal\, 4101 Sherbrooke Est\, Montréal
SUMMARY:Visites guidées de l'Herbier Marie-Victorin
DESCRIPTION:Suivez votre guide!\nVous souhaitez en apprendre un peu plus s
 ur l'Herbier Marie-Victorin? Des guides bénévoles vous feront découvrir
  ce trésor caché.\nL’Herbier Marie-Victorin possède une vaste collec
 tion. Avec plus de 634 640 spécimens\, l’Herbier est reconnu mondialeme
 nt et se place au 4ième rang parmi les herbiers canadiens. Il sert à la 
 recherche et à l’enseignement.\n\nLes visites guidées sont offertes 
 gratuitement\, à l'achat d'un billet d'entrée\, en collaboration avec Le
 s Amis du Jardin botanique de Montréal.\n
END:VEVENT
BEGIN:VTIMEZONE
TZID:America/Montreal
X-LIC-LOCATION:America/Montreal
END:VTIMEZONE
END:VCALENDAR