BEGIN:VCALENDAR
VERSION:2.0
PRODID:http://murmitoyen.com/events/vanille/
X-WR-TIMEZONE:America/Montreal
BEGIN:VEVENT
UID:69e9c286af3b5
DTSTAMP:20260423T025606
DTSTART:20260605T090000
SEQUENCE:0
TRANSP:OPAQUE
DTEND:20260605T180000
URL:http://murmitoyen.com/events/vanille/detail/994523-festival-eureka-la-g
 rande-fete-des-sciences
LOCATION:Biosphère\, 160\, chemin Tour-de-l'Isle\, Île Sainte-Hélène\, 
 Montréal\, QC\, Canada\, H3C 4G8
SUMMARY:Festival Eurêka! : la grande fête des sciences
DESCRIPTION:Espace pour la vie invite les familles à découvrir la Biosph
 ère dans une ambiance festive lors du Festival Eurêka!\, au parc Jean-Dr
 apeau. Profitez gratuitement des expositions et prenez part à de nombreus
 es activités dont des ateliers scientifiques et des spectacles interactif
 s.\nTrois jours d’activités scientifiques vous attendent!\nEn 2026\, 
 le Festival Eurêka! célèbre l'élan scientifique\, cette force qui moti
 ve aussi bien les athlètes que les scientifiques à se dépasser. Du labo
 ratoire au terrain de jeu\, l’alliance entre la science et le sport perm
 et de repousser les frontières du possible.\nEn plus des portes ouvertes
  de la Biosphère\, qui propose des expositions et des activités familial
 es\, le Festival Eurêka! vous offre gratuitement :\n\nUne centaine d'ac
 tivités pour mieux comprendre la science.\nDes dizaines de conférences 
 et de spectacles interactifs.\nPlus de 50 ateliers pratiques de création
  et d'expérimentation.\nDes spectacles extérieurs\, des animations\, de
 s défis et des démonstrations surprenantes.\n\nDécouvrez la programma
 tion complète sur le site du Festival Eurêka!
END:VEVENT
BEGIN:VTIMEZONE
TZID:America/Montreal
X-LIC-LOCATION:America/Montreal
END:VTIMEZONE
END:VCALENDAR