BEGIN:VCALENDAR
VERSION:2.0
PRODID:http://murmitoyen.com/events/vanille/
X-WR-TIMEZONE:America/Montreal
BEGIN:VEVENT
UID:69e9c286dde82
DTSTAMP:20260423T025606
DTSTART:20260425T193000
SEQUENCE:0
TRANSP:OPAQUE
DTEND:20260425T230000
URL:http://murmitoyen.com/events/vanille/detail/994522-apprivoisez-vos-tele
 scopes-n-rendez-vous-au-planetarium
LOCATION:Planétarium\, 4801\, avenue Pierre-De Coubertin\, Montréal\, QC\
 , Canada\, H1V 3V4
SUMMARY:Apprivoisez vos télescopes – Rendez-vous au Planétarium
DESCRIPTION:Venez voir la Lune\, Venus et Jupiter de plus près et profitez
 -en pour développer vos connaissances en matière d’observation du ciel
  nocturne. L’équipe du Planétarium vous montrera comment maitriser les
  télescopes et répondra à vos questions sur l’astronomie.\nActivité
 s gratuites d’observation du ciel sur place\n\nObservation à l’œil
  nu des constellations d'Orion et du Lion\, ainsi que de la Lune\, de Vén
 us et de Jupiter au télescope.\nProgrammation spéciale dans le hall du 
 musée : quatre animations sur les outils d’observation\, avec des conse
 ils pratiques donnés par les animateurs et animatrices du Planétarium.\
 nAnimation de Bibliothèques Montréal.\n\nInformations pratiques\nTout
 es les activités sont gratuites\, à l’exception de la programmation r
 égulière des films\, de 19 h 30 à 20 h 45.\nDès 20 h 45\, il y 
 aura une présentation gratuite du film Messagers du temps et de l’espac
 e qui traite des prestigieux télescopes qui parsèment le monde\, ponctu
 és d’images fabuleuses de l’Univers.\nEn cas de mauvais temps\, les 
 activités à l’intérieur seront maintenues. Les animateurs et animatri
 ces offriront alors des visites guidées de l'exposition de météorites.
 \nL'observation est offerte par l'équipe d'animation du Planétarium\, ai
 nsi que des bénévoles de la Société d’astronomie du Planétarium de 
 Montréal (SAPM) et de la Fédération des astronomes amateurs du Québec.
 \nLe Planétarium de Montréal propose régulièrement Les Rendez-vous t
 élescopes\, des soirées d’observation du ciel. C’est une belle occas
 ion d’en apprendre plus sur l’astronomie dans une atmosphère convivia
 le.
END:VEVENT
BEGIN:VTIMEZONE
TZID:America/Montreal
X-LIC-LOCATION:America/Montreal
END:VTIMEZONE
END:VCALENDAR