BEGIN:VCALENDAR
VERSION:2.0
PRODID:http://murmitoyen.com/events/vanille/
X-WR-TIMEZONE:America/Montreal
BEGIN:VEVENT
UID:69e9c3d565567
DTSTAMP:20260423T030141
DTSTART:20260517T113000
SEQUENCE:0
TRANSP:OPAQUE
DTEND:20260517T153000
URL:http://murmitoyen.com/events/vanille/detail/993636-pique-nique-o-hanami
 -sous-les-pommetiers-en-fleurs
LOCATION:Jardin botanique\, 4101\, rue Sherbrooke Est\, Montréal\, QC\, Ca
 nada\, H1X 2B2
SUMMARY:Pique-nique o-hanami sous les pommetiers en fleurs
DESCRIPTION:Pique-niquer et contempler les fleurs comme les Japonais\nVene
 z célébrer le printemps à la japonaise\, en pique-niquant sous les arbr
 es en fleurs. Cette coutume ancienne du o-hanami (contempler (mi) les fleu
 rs (hana)) est encore bien vivante et immensément populaire au Japon.\nA
 u Jardin japonais\, cette activité se déroule pendant la floraison des p
 ommetiers\, qui évoque celle des cerisiers au Japon. Diverses activités 
 et présentations culturelles agrémenteront aussi cet événement.\n\nI
 l est normalement interdit de pique-niquer dans le Jardin japonais. Cette 
 journée fait exception\, à condition toutefois d'avoir réservé une bo
 îte à lunch pour l'événement.\nLes réservations débuteront le 13 av
 ril 2026 sur le site de la Fondation du Jardin et du Pavillon japonais. Le
 s places sont limitées pour assurer le confort des participants.\nNotez 
 que le coût de la boîte à lunch n'inclut pas l'admission au Jardin bota
 nique.\nN'oubliez pas d'apporter une couverture.(Merci d'éviter les chai
 ses car elles abîment la pelouse.)\n\nInscription et paiement en ligne
 \n 
END:VEVENT
BEGIN:VTIMEZONE
TZID:America/Montreal
X-LIC-LOCATION:America/Montreal
END:VTIMEZONE
END:VCALENDAR