BEGIN:VCALENDAR
VERSION:2.0
PRODID:http://murmitoyen.com/events/vanille/
X-WR-TIMEZONE:America/Montreal
BEGIN:VEVENT
UID:69e4eaa658431
DTSTAMP:20260419T104558
DTSTART:20090801T000000
SEQUENCE:0
TRANSP:OPAQUE
DTEND:20090801T000000
URL:http://murmitoyen.com/events/vanille/detail/66848
LOCATION:Centre d'histoire de Montréal\, 335\, Place d'Youville\, Montréa
 l\, QC\, Canada\, H2Y 3T1
SUMMARY:Traces\, lieux\, mémoires
DESCRIPTION:Montréal\, c’est une entité vivante et dynamique\, née de 
 la rencontre entre un territoire et des populations. Comme toute ville\, e
 lle est en constante mutation\, jamais achevée\, toujours en devenir. Ell
 e porte en elle les traces de ceux qui nous ont précédés. Traces physiq
 ues\, inscrites dans l’architecture et les paysages de ses quartiers. Tr
 aces intangibles\, coulées dans les habitudes de vie\, les langues et les
  mentalités.L’histoire de Montréal\, c’est celle des gens qui l’on
 t habitée et qui l’habitent encore. C’est une histoire de lieux et de
  mémoires qui créent un présent et dessinent un avenir.
END:VEVENT
BEGIN:VTIMEZONE
TZID:America/Montreal
X-LIC-LOCATION:America/Montreal
END:VTIMEZONE
END:VCALENDAR