BEGIN:VCALENDAR
VERSION:2.0
PRODID:http://murmitoyen.com/events/vanille/
X-WR-TIMEZONE:America/Montreal
BEGIN:VEVENT
UID:69e4eaab0673b
DTSTAMP:20260419T104603
DTSTART:20090801T000000
SEQUENCE:0
TRANSP:OPAQUE
DTEND:20090801T000000
URL:http://murmitoyen.com/events/vanille/detail/66847
LOCATION:QC\, Canada
SUMMARY:Simplement Montréal : coup d'oeil sur une ville unique
DESCRIPTION:Éclatante et ténébreuse\, sage et folichonne\, chaleureuse e
 t glaciale à la fois\, Montréal - ville aux mille clochers\, ville aux q
 uatre vents - envoûte et fascine. Comme un refrain qu'on a du mal à oubl
 ier\, son histoire s'incrit dans le coeur des Montréalais et de tous ceux
  qui la découvrent pour la première fois ou qui la redécouvrent à lois
 ir. Intitulée Simplement Montréal\, l'exposition permanente du Musée Mc
 Cord jette un regard sur une ville unique et plonge les visiteurs au centr
 e même de l'expérience riche et diversifiée de notre ville.Une gamme d'
 objets des Premières Nations\, empreints d'émotions et de symboles \; un
 e sélection de photographies remarquables croquées sur le vif par le pho
 tographe canadien renommé William Notman \; une variété d'équipements 
 sportifs et de jouets attendrissants \; un éventail de robes et de costum
 es somptueux ayant appartenu à d'illustres Montréalais - plus de 800 obj
 ets de la célèbre collection du McCord font revivre la grande aventure m
 ontréalaise.Jalonnée d'éléments interactifs et enveloppée d'atmosphè
 res évocatrices\, Simplement Montréal invite grands et petits à s'appro
 prier la ville\, à s'imprégner de ses bruits\, de ses sons et sensations
 \, et même de vivre une véritable tempête de neige made in Montréal !
END:VEVENT
BEGIN:VTIMEZONE
TZID:America/Montreal
X-LIC-LOCATION:America/Montreal
END:VTIMEZONE
END:VCALENDAR