BEGIN:VCALENDAR
VERSION:2.0
PRODID:http://murmitoyen.com/events/vanille/
X-WR-TIMEZONE:America/Montreal
BEGIN:VEVENT
UID:69e51a728be73
DTSTAMP:20260419T140954
DTSTART:20090619T000000
SEQUENCE:0
TRANSP:OPAQUE
DTEND:20090619T000000
URL:http://murmitoyen.com/events/vanille/detail/66846
LOCATION:Musée Marguerite-Bourgeoys\, 400\, rue Saint-Paul Est\, Montréal
 \, QC\, Canada\, H2Y 1H4
SUMMARY:Ultreïa! en marche pèlerin
DESCRIPTION:Distinct du simple voyageur\, le pèlerin entame un chemin qui 
 le mènera vers une quête ultime. Que ce soit pour des motifs spirituels\
 , personnels ou religieux\, le pèlerin parcoure un trajet et surmonte des
  difficultés qui le transformeront à jamais.Cette exposition vous fera s
 uivre l’expérience vécue par des pèlerins tout en vous familiarisant 
 avec l’univers du pèlerinage sous ses multiples aspects et en vous pré
 sentant la première chapelle de pèlerinage de Montréal\, Notre-Dame-de-
 Bon-Secours.
END:VEVENT
BEGIN:VTIMEZONE
TZID:America/Montreal
X-LIC-LOCATION:America/Montreal
END:VTIMEZONE
END:VCALENDAR