BEGIN:VCALENDAR
VERSION:2.0
PRODID:http://murmitoyen.com/events/vanille/
X-WR-TIMEZONE:America/Montreal
BEGIN:VEVENT
UID:69ebc2a81590f
DTSTAMP:20260424T152112
DTSTART:20030301T000000
SEQUENCE:0
TRANSP:OPAQUE
DTEND:20030301T000000
URL:http://murmitoyen.com/events/vanille/detail/260330
LOCATION:Musée des maîtres et artisans du Québec\, 615\, avenue Sainte-C
 roix\, Montréal\, QC\, Canada\, H4L 3X6
SUMMARY:Mains de maîtres | exposition permanente
DESCRIPTION:La nouvelle exposition du Musée\, intitulée Mains de maîtres
 \, présente tous ces objets en contexte d'une façon magnifique. Plus de 
 350 objets sont choisis en fonction\, certes de leur qualité esthétique\
 , mais aussi de leur place dans l'évolution particulière d'un art ou d'u
 n artisan\, et de leur rôle d'objet symbolique\, artistique ou plus simpl
 ement utilitaire. Ceux-ci sont groupés par métier de façon à\, d'une p
 art\, expliquer l'usage de l'objet ou de l'oeuvre\, et d'autre part\, fair
 e connaître l'artisan et ses techniques. En bref\, cette exposition se ve
 ut une occasion unique de reprendre contact avec une partie de la culture 
 canadienne-française et de redécouvrir des métiers et des arts pratiqu
 és par les maîtres et artisans du Québec.
END:VEVENT
BEGIN:VTIMEZONE
TZID:America/Montreal
X-LIC-LOCATION:America/Montreal
END:VTIMEZONE
END:VCALENDAR