BEGIN:VCALENDAR
VERSION:2.0
PRODID:http://murmitoyen.com/events/vanille/
X-WR-TIMEZONE:America/Montreal
BEGIN:VEVENT
UID:69e596ae49f52
DTSTAMP:20260419T225958
DTSTART:20090101T000000
SEQUENCE:0
TRANSP:OPAQUE
DTEND:20090101T000000
URL:http://murmitoyen.com/events/vanille/detail/123156
LOCATION:Jardin botanique\, 4101\, rue Sherbrooke Est\, Montréal\, QC\, Ca
 nada\, H1X 2B2
SUMMARY:Sous le soleil de Cuba\, avec Marie-Victorin
DESCRIPTION: invite le visiteur à suivre le frère Marie-Victorin et son c
 ollegue\, le frère Léon\, dans leurs explorations botaniques à travers 
 cette fascinante île. On y découvre leur apport important à la compréh
 ension de l'écologie et de flore de l'île aussi bien que la richesse act
 uelle du patrimoine naturel de Cuba et les mesures mises en place pour en 
 assurer la préservation. Un voyage unique avec\, pour seul bagage\, le go
 ût de la découverte.
END:VEVENT
BEGIN:VTIMEZONE
TZID:America/Montreal
X-LIC-LOCATION:America/Montreal
END:VTIMEZONE
END:VCALENDAR